BEGIN:VCALENDAR
VERSION:2.0
PRODID:-//Mazza//OpenHouse//EN
CALSCALE:GREGORIAN
METHOD:PUBLISH
BEGIN:VEVENT
UID:openhouse-4@YOURDOMAIN.com
DTSTAMP:20260424T005741Z
DTSTART:20260426T180000Z
DTEND:20260426T200000Z
SUMMARY:Open House – 29 Mapleview Dr\, Hagersville 
LOCATION:29 Mapleview Dr\, Hagersville \, ON
DESCRIPTION:Open house for 29 Mapleview Dr\, Hagersville . View listing: https://YOURDOMAIN.com/listings/6671
END:VEVENT
END:VCALENDAR